BEGIN:VCALENDAR
VERSION:2.0
PRODID:-//wp-events-plugin.com//7.2.3.1//EN
BEGIN:VEVENT
UID:262@c2ds.eu
DTSTART:20260423T073000Z
DTEND:20260423T153000Z
DTSTAMP:20260420T160848Z
URL:https://www.c2ds.eu/events/seminaire-regional-martinique/
SUMMARY:MARTINIQUE\, Séminaire régional #1
DESCRIPTION:Transition écologique du secteur de la santé\n\nJeudi 23 avri
 l 2026\, 8h30 – 16h30 - Martinique\nLe C2DS vient à la rencontre des é
 tablissements sanitaires et médico-sociaux de Martinique pour une journ
 ée de Retex et d'échanges autour des bonnes pratiques en transition éco
 logique/adaptation au changement climatique/santé environnementale\, et d
 e prise de connaissance des outils et dispositifs en place.\nÉvénement o
 rganisé en collaboration avec le CHU de Martinique\n8h30 accueil café\n9
 h-9h15 - introduction par un représentant de la direction du CHU \n9h15-
 9h50 - présentation des enjeux\nC2DS Véronique Molières\, directrice :
  les enjeux de la transition écologique/adaptation changement climatique/
 santé environnementale\n9h50-10h – les achats durables\nCAHPP Isabell
 e Hamelin\, directrice des relations publiques\, de la communication et de
  la RSE (visio) : l’Indice vert de CAHPP pour responsabiliser les achats
 \n10h-11h Carnet d’initiatives #1\n-Clinique St Paul Caroline Belot\, r
 esponsable RSE et Manuel Da Silva\, directeur adjoint\n-C2DS et représe
 ntants de pharmacie à usage interne (PUI)\, action collective “Médicam
 ents à l’hôpital : pourquoi et combien on jette ?”\n11h-11h30 pause\
 n11h30-12h30 Carnet d’initiatives #2\n-ATIR Martinique Johan Nomis\, ch
 argé hygiène\, qualité sécurité environnement (HQSE)\n-CH Nord Caraï
 be\, un représentant\n-Association One Health Dr Sandrine Pierre Franç
 ois\n-ANAP Philippe Dieudonné\, expert immobilier (visio)\, présentatio
 n de la publication 2026 : “Etablissements de santé et médico-sociaux 
 en climat tropical : maîtriser vos coûts énergétiques”\n12h30-13h30 
 déjeuner\n13h30-14h30 Table ronde : la boite à outils en Martinique \n-
 ARS\, un représentant\n-DEAL Sylvie Ettenat\n-FHF\, un représentant\n-F
 HP Manuel Da Silva\, directeur adjoint Clinique St Paul\n-ANFH Odile Cho
 let\, conseillère\n14h30-15h - pause\n \n15h-16h Carnet d’initiatives 
 #3 sur l’adaptation au changement climatique\n-C2DS présentation des e
 njeux\n-CHU Martinique Rudy Rega\, chargé de développement durable\n-Of
 fice de l'eau\, un représentant\n&#x1f4cd\;Lieu du séminaire\nLa Mervei
 lleuse - Lieu-dit Habitation Merveilleuse - 97220 La Trinité\nEn partenar
 iat avec :\n\n             \n
ATTACH;FMTTYPE=image/jpeg:https://www.c2ds.eu/wp-content/uploads/2026/02/6
 9a58e1af5b26f2f94a3cd2f.jpg
CATEGORIES:SÉMINAIRE REGIONAL
LOCATION:Martinique\, \, Martinique
X-APPLE-STRUCTURED-LOCATION;VALUE=URI;X-ADDRESS=\, Martinique;X-APPLE-RADIU
 S=100;X-TITLE=Martinique:geo:0,0
END:VEVENT
END:VCALENDAR