BEGIN:VCALENDAR
VERSION:2.0
PRODID:-//wp-events-plugin.com//7.2.3.1//EN
BEGIN:VEVENT
UID:228@c2ds.eu
DTSTART:20260424T110000Z
DTEND:20260424T120000Z
DTSTAMP:20260417T133857Z
URL:https://www.c2ds.eu/events/club-acv-soins-11/
SUMMARY:Club ACV soins #11
DESCRIPTION:Des praticiens éco-conçoivent leurs actes de soins et partage
 nt leurs travaux. Une fois par mois\, deux praticiens dispose chacun de 30
  min pour présenter l’analyse du cycle de vie d’un acte de soin réal
 isée.\n\n Dr Claire Chapuis et Dr Dorothée Lombardo\, pharmaciens\, et C
 orentin Guéneau\, docteur junior en pharmacie : Écoprescription au CHU G
 renoble Alpes\n\n Dr Julie Lardé\, PH en anesthésie au CHR Metz-Thionvil
 le (57) : ACV simplifiée de l'usage des calots au bloc opératoire\nRetro
 uvez la revue de pratiques innovantes sur la chaîne YouTube @ACVSoins
ATTACH;FMTTYPE=image/jpeg:https://www.c2ds.eu/wp-content/uploads/2025/01/c
 lub-acv-soins-1.jpg
CATEGORIES:CLUB ACV
END:VEVENT
END:VCALENDAR