BEGIN:VCALENDAR
VERSION:2.0
PRODID:-//wp-events-plugin.com//7.2.3.1//EN
BEGIN:VEVENT
UID:261@c2ds.eu
DTSTART:20260421T073000Z
DTEND:20260421T153000Z
DTSTAMP:20260420T160932Z
URL:https://www.c2ds.eu/events/seminaire-regional-guadeloupe-2026/
SUMMARY:GUADELOUPE\, Séminaire régional #2
DESCRIPTION:Transition écologique du secteur de la santé\n\nMardi 21 avri
 l 2026\, 8h30 – 16h - Guadeloupe\nPour la deuxième année\, le C2DS vie
 nt à la rencontre des établissements sanitaires et médico-sociaux de Gu
 adeloupe pour une journée de Retex et d'échanges autour des bonnes prat
 iques en transition écologique/adaptation au changement climatique/santé
  environnementale\, et de prise de connaissance des outils et dispositifs 
 en place.\nÉvénement organisé en collaboration avec le CHU de Guadeloup
 e\n8h30 accueil café\n\n&nbsp\;\n\n9h-9h05 - introduction par Eric Guyad
 er\, DG du CHU de Guadeloupe\n\n&nbsp\;\n\n9h05-9h35 - présentation des e
 njeux transition écologique/adaptation changement climatique/santé envi
 ronnementale - Véronique Molières\, directrice du C2DS\n\n&nbsp\;\n\n9h3
 5-9h45 CAHPP\, Isabelle Hamelin\, directrice des relations publiques\, de 
 la communication et de la RSE (visio) : l’Indice vert de CAHPP pour resp
 onsabiliser les achats\n\n&nbsp\;\n\n9h45-10h45 séquence produits de sant
 é\n\n-OMEDIT Guadeloupe\, Myriam Roudaut\, pharmacienne – coordonnateur
  adjoint (visio) / C2DS Véronique Molières : restitution des résultats 
 2025 de l’enquête nationale “Médicaments à l’hôpital : pourquoi 
 et combien on jette ?” \; lancement de la campagne 2026\n\n-CHU Guadelou
 pe\, Lore Barbin\, pharmacienne\n\n&nbsp\;\n\n10h45-11h pause\n\n&nbsp\;\n
 \n11h-12h30 - Carnet d’initiatives #1\n\n-CH Basse Terre\, Henri Abdalla
 h\, chef de projet travaux : haute qualité environnementale des opératio
 ns de travaux\n\n-EPSM\, Joelle Jaffart\, directrice adjointe qualité\, r
 isques et RSE : le bilan carbone démarre par la collecte des données\n\n
 -Centre médico-social de Basse terre / HAD\, Frédérique Hery\, directri
 ce coordinatrice qualité et gestion des risques : dynamique éco-responsa
 ble et projet d'éco-mobilité\n\n-CHU Guadeloupe\, Laurent-Marc Fischer\,
  architecte urbaniste associé Architecturestudio\n\n-ANAP\, Philippe Dieu
 donné\, expert immobilier (visio)\, présentation de la publication 2026 
 “Etablissements de santé et médico-sociaux en climat tropical : maîtr
 iser vos coûts énergétiques”\n\n&nbsp\;\n\n12h30-13h30 déjeuner\n\n&
 nbsp\;\n\n13h30-14h30 - Carnet d’initiatives #2\n\n-CPIAS Guadeloupe\, R
 aymond Nasso\, cadre coordonateur : hygiène\, comment concilier sécurit
 é et respect de l’environnement ?\n\n-CHU Guadeloupe\, Dr Tania Foucan\
 , vice-présidente de la CME : soins écoresponsables\, qu’en pensent le
 s médecins ?\n\n-CH Capesterre\, sous réserve\n\n&nbsp\;\n\n14h30-14h50 
 - pause\n\n&nbsp\;\n\n14h50-16h La boite à outils en Guadeloupe\n\n-ARS\,
  un représentant\n\n-FHF\, Dr André Atallah\, président\n\n-FHP\, Dr J
 ean Claude Pitat\, président\n\n-ADEME\, Erlène Simion\, ingénieur : di
 spositifs d’accompagnement financier\, règlementation écotertiaire\, p
 lateforme OPERAT\n\n-CGSS\, Maryse Coquin\, cheffe de projet RSO (responsa
 bilité sociale ou sociétale des organisations)\n\n-ORAQS-97.1\, Isabelle
  Noyon-Seymour\, directrice-coordonnatrice de la Structure régionale d'ap
 pui à la Qualité des soins et la Sécurité des patients Guadeloupe - Sa
 int-Martin - Saint-Barthélemy \n\n&nbsp\;\n&#x1f4cd\;Lieu\nCHU de Guadel
 oupe - Hôpital Joseph Ricou\nBâtiment S - Salle des commissions à la 
 Direction générale\nRoute de Chauvel\, 97139 Les Abymes\n&nbsp\;\n\nEn p
 artenariat avec :\n         \n\n\n\n\n\n\n\n
ATTACH;FMTTYPE=image/jpeg:https://www.c2ds.eu/wp-content/uploads/2026/02/6
 9a58e1af5b26f2f94a3cd2f.jpg
CATEGORIES:SÉMINAIRE REGIONAL
LOCATION:Guadeloupe\, Guadeloupe\, Guadeloupe\, Guadeloupe
X-APPLE-STRUCTURED-LOCATION;VALUE=URI;X-ADDRESS=Guadeloupe\, Guadeloupe\, G
 uadeloupe;X-APPLE-RADIUS=100;X-TITLE=Guadeloupe:geo:0,0
END:VEVENT
END:VCALENDAR